BEGIN:VCALENDAR
VERSION:2.0
PRODID:SchoolNow
CALSCALE:GREGORIAN
BEGIN:VEVENT
UID:7174b1a6-ec66-11ea-ada1-126321d9065b
DTSTAMP:20210614T191630Z
SUMMARY:CDD Board Meeting - Aug. 2021
LOCATION:Rizzetta & Company 9428 Camden Field Parkway Riverview\, FL 33578
URL;VALUE=URI:https://www.lynwoodcdd.org/calendar/2330143/cdd-board-meeting
 -aug-2021
DTSTART:20210813T150000Z
DTEND:20210813T170000Z
END:VEVENT
END:VCALENDAR
