BEGIN:VCALENDAR
VERSION:2.0
PRODID:SchoolNow
CALSCALE:GREGORIAN
BEGIN:VEVENT
UID:20129c78-597d-11ef-8145-0a58a9feac02
DTSTAMP:20250415T121433Z
SUMMARY:Audit Committee & CDD Board Meeting - Apr. 2025 - Cancelled
LOCATION:the offices of Rizzetta & Company\, located at 2700 Falkenburg Roa
 d Suite 2745\, Riverview\, FL 33578.
URL;VALUE=URI:https://www.lynwoodcdd.org/calendar/6394107/cdd-board-meeting
 -apr-2025
DTSTART:20250418T150000Z
DTEND:20250418T170000Z
ATTACH;FILENAME=2025-04-18 Lynwood CDD - Final Agenda.pdf;FMTTYPE=applicati
 on/pdf:https://campussuite-storage.s3.amazonaws.com/prod/1558911/2b6da47e-
 eaa0-11e9-8892-0a20d2c7fac4/2938958/5cef6e04-161b-11f0-a853-0e03a1390a99/f
 ile/2025-04-18 Lynwood CDD - Final Agenda.pdf
END:VEVENT
END:VCALENDAR
