BEGIN:VCALENDAR
VERSION:2.0
PRODID:SchoolNow
CALSCALE:GREGORIAN
BEGIN:VEVENT
UID:2c66f94c-597d-11ef-a9a5-0affdd7f340d
DTSTAMP:20250501T163200Z
SUMMARY:Audit Committee & CDD Meeting - May 2025
LOCATION:the offices of Rizzetta & Company\, located at 2700 Falkenburg Roa
 d Suite 2745\, Riverview\, FL 33578.
URL;VALUE=URI:https://www.lynwoodcdd.org/calendar/6394108/cdd-board-meeting
 -may-2025
DTSTART:20250509T150000Z
DTEND:20250509T170000Z
ATTACH;FILENAME=2025-05-09 Lynwood CDD - Final Agenda.pdf;FMTTYPE=applicati
 on/pdf:https://campussuite-storage.s3.amazonaws.com/prod/1558911/2b6da47e-
 eaa0-11e9-8892-0a20d2c7fac4/2947650/6939721e-26a0-11f0-a455-0e56e220a191/f
 ile/2025-05-09 Lynwood CDD - Final Agenda.pdf
END:VEVENT
END:VCALENDAR
