BEGIN:VCALENDAR
VERSION:2.0
PRODID:SchoolNow
CALSCALE:GREGORIAN
BEGIN:VEVENT
UID:36834872-597d-11ef-9cc1-0e86484ee861
DTSTAMP:20250605T151523Z
SUMMARY:CDD Board Meeting - June 2025
LOCATION:the offices of Rizzetta & Company\, located at 2700 Falkenburg Roa
 d Suite 2745\, Riverview\, FL 33578.
URL;VALUE=URI:https://www.lynwoodcdd.org/calendar/6394109/cdd-board-meeting
 -june-2025
DTSTART:20250613T150000Z
DTEND:20250613T170000Z
ATTACH;FILENAME=2025-06-13 - Lynwood CDD Final Agenda.pdf;FMTTYPE=applicati
 on/pdf:https://campussuite-storage.s3.amazonaws.com/prod/1558911/2b6da47e-
 eaa0-11e9-8892-0a20d2c7fac4/2964832/e32e85e2-421f-11f0-8448-0affec5dcef5/f
 ile/2025-06-13 - Lynwood CDD Final Agenda.pdf
END:VEVENT
END:VCALENDAR
