BEGIN:VCALENDAR
VERSION:2.0
PRODID:SchoolNow
CALSCALE:GREGORIAN
BEGIN:VEVENT
UID:417bea86-597d-11ef-a35c-02b97046b23d
DTSTAMP:20250703T165707Z
SUMMARY:CDD Board Meeting - July 2025
LOCATION:the offices of Rizzetta & Company\, located at 2700 Falkenburg Roa
 d Suite 2745\, Riverview\, FL 33578.
URL;VALUE=URI:https://www.lynwoodcdd.org/calendar/6394110/cdd-board-meeting
 -july-2025
DTSTART:20250711T150000Z
DTEND:20250711T170000Z
ATTACH;FILENAME=2025-07-11 Lynwood CDD - Final Agenda.pdf;FMTTYPE=applicati
 on/pdf:https://campussuite-storage.s3.amazonaws.com/prod/1558911/2b6da47e-
 eaa0-11e9-8892-0a20d2c7fac4/2978051/fa63e172-5817-11f0-b4bb-0273f81fc779/f
 ile/2025-07-11 Lynwood CDD - Final Agenda.pdf
END:VEVENT
END:VCALENDAR
