BEGIN:VCALENDAR
VERSION:2.0
PRODID:SchoolNow
CALSCALE:GREGORIAN
BEGIN:VEVENT
UID:4bc6fa62-597d-11ef-8e7e-02b97046b23d
DTSTAMP:20250731T145918Z
SUMMARY:CDD Board Meeting - Aug. 2025
LOCATION:the offices of Rizzetta & Company\, located at 2700 Falkenburg Roa
 d Suite 2745\, Riverview\, FL 33578.
URL;VALUE=URI:https://www.lynwoodcdd.org/calendar/6394111/cdd-board-meeting
 -aug-2025
DTSTART:20250808T150000Z
DTEND:20250808T170000Z
ATTACH;FILENAME=2025-08-08 - Lynwood CDD - Final Agenda.pdf;FMTTYPE=applica
 tion/pdf:https://campussuite-storage.s3.amazonaws.com/prod/1558911/2b6da47
 e-eaa0-11e9-8892-0a20d2c7fac4/2987612/c037ddde-6e1d-11f0-a806-0a58a9feac02
 /file/2025-08-08 - Lynwood CDD - Final Agenda.pdf
END:VEVENT
END:VCALENDAR
