BEGIN:VCALENDAR
VERSION:2.0
PRODID:SchoolNow
CALSCALE:GREGORIAN
BEGIN:VEVENT
UID:5650a8d4-597d-11ef-bc87-0e29921a1d35
DTSTAMP:20250828T144643Z
SUMMARY:CDD Board Meeting - Sept. 2025
LOCATION:the offices of Rizzetta & Company\, located at 2700 Falkenburg Roa
 d Suite 2745\, Riverview\, FL 33578.
URL;VALUE=URI:https://www.lynwoodcdd.org/calendar/6394112/cdd-board-meeting
 -sept-2025
DTSTART:20250905T150000Z
DTEND:20250905T170000Z
ATTACH;FILENAME=2025-09-05 Lynwood CDD - Final Agenda.pdf;FMTTYPE=applicati
 on/pdf:https://campussuite-storage.s3.amazonaws.com/prod/1558911/2b6da47e-
 eaa0-11e9-8892-0a20d2c7fac4/3000361/cb3e9306-841d-11f0-872f-02efef4a7877/f
 ile/2025-09-05 Lynwood CDD - Final Agenda.pdf
END:VEVENT
END:VCALENDAR
