BEGIN:VCALENDAR
VERSION:2.0
PRODID:SchoolNow
CALSCALE:GREGORIAN
BEGIN:VEVENT
UID:333924ee-24fb-11f0-9bb2-0a58a9feac02
DTSTAMP:20250429T130936Z
SUMMARY:CDD Board Workshop - May 2025
LOCATION:Lynwood Community Pool\, 4911 White Chicory Drive\, Apollo Beach\,
  FL 33572
URL;VALUE=URI:https://www.lynwoodcdd.org/calendar/8031718/cdd-board-worksho
 p-may-2025
DTSTART:20250505T220000Z
DTEND:20250506T000000Z
END:VEVENT
END:VCALENDAR
