BEGIN:VCALENDAR
VERSION:2.0
PRODID:SchoolNow
CALSCALE:GREGORIAN
BEGIN:VEVENT
UID:3d34cd86-24fb-11f0-95e1-0e56e220a191
DTSTAMP:20250429T130953Z
SUMMARY:CDD Board Workshop - Jun. 2025
LOCATION:Lynwood Community Pool\, 4911 White Chicory Drive\, Apollo Beach\,
  FL 33572
URL;VALUE=URI:https://www.lynwoodcdd.org/calendar/8031719/cdd-board-worksho
 p-jun-2025
DTSTART:20250609T220000Z
DTEND:20250610T000000Z
END:VEVENT
END:VCALENDAR
