BEGIN:VCALENDAR
VERSION:2.0
PRODID:SchoolNow
CALSCALE:GREGORIAN
BEGIN:VEVENT
UID:46ef9284-24fb-11f0-bc57-0a58a9feac02
DTSTAMP:20250703T142729Z
SUMMARY:CDD Board Workshop - Jul. 2025
LOCATION:Lynwood Community Pool\, 4911 White Chicory Drive\, Apollo Beach\,
  FL 33572
URL;VALUE=URI:https://www.lynwoodcdd.org/calendar/8031720/cdd-board-worksho
 p-jul-2025
DTSTART:20250707T220000Z
DTEND:20250708T000000Z
END:VEVENT
END:VCALENDAR
