BEGIN:VCALENDAR
VERSION:2.0
PRODID:SchoolNow
CALSCALE:GREGORIAN
BEGIN:VEVENT
UID:52701e8a-24fb-11f0-81b6-0a58a9feac02
DTSTAMP:20250731T145901Z
SUMMARY:CDD Board Workshop - Aug. 2025
LOCATION:Lynwood Community Pool\, 4911 White Chicory Drive\, Apollo Beach\,
  FL 33572
URL;VALUE=URI:https://www.lynwoodcdd.org/calendar/8031721/cdd-board-worksho
 p-aug-2025
DTSTART:20250804T220000Z
DTEND:20250805T000000Z
END:VEVENT
END:VCALENDAR
