BEGIN:VCALENDAR
VERSION:2.0
PRODID:SchoolNow
CALSCALE:GREGORIAN
BEGIN:VEVENT
UID:5c469c90-24fb-11f0-b8bc-0a58a9feac02
DTSTAMP:20250808T200645Z
SUMMARY:CDD Board Workshop - Sept. 2025  - Cancelled
LOCATION:Lynwood Community Pool\, 4911 White Chicory Drive\, Apollo Beach\,
  FL 33572
URL;VALUE=URI:https://www.lynwoodcdd.org/calendar/8031722/cdd-board-worksho
 p-sept-2025
DTSTART:20250908T220000Z
DTEND:20250909T000000Z
END:VEVENT
END:VCALENDAR
