BEGIN:VCALENDAR
VERSION:2.0
PRODID:SchoolNow
CALSCALE:GREGORIAN
BEGIN:VEVENT
UID:63753502-7493-11f0-86d1-0affeaa60e11
DTSTAMP:20251002T141747Z
SUMMARY:CDD Board Meeting - Oct. 2025
LOCATION:the offices of Rizzetta & Company\, located at 2700 Falkenburg Roa
 d Suite 2745\, Riverview\, FL 33578.
URL;VALUE=URI:https://www.lynwoodcdd.org/calendar/8483864/cdd-board-meeting
 -oct-2025
DTSTART:20251010T150000Z
DTEND:20251010T170000Z
ATTACH;FILENAME=2025-10-10 Lynwood CDD - Final Agenda.pdf;FMTTYPE=applicati
 on/pdf:https://campussuite-storage.s3.amazonaws.com/prod/1558911/2b6da47e-
 eaa0-11e9-8892-0a20d2c7fac4/3015991/8fd36600-9f9a-11f0-a21a-02978cd4ae17/f
 ile/2025-10-10 Lynwood CDD - Final Agenda.pdf
END:VEVENT
END:VCALENDAR
