BEGIN:VCALENDAR
VERSION:2.0
PRODID:SchoolNow
CALSCALE:GREGORIAN
BEGIN:VEVENT
UID:8c8f7aec-7493-11f0-8fd0-0afff137d3ad
DTSTAMP:20260205T195819Z
SUMMARY:CDD Board Meeting - Feb. 2026
LOCATION:the offices of Rizzetta & Company\, located at 2700 Falkenburg Roa
 d Suite 2745\, Riverview\, FL 33578.
URL;VALUE=URI:https://www.lynwoodcdd.org/calendar/8483868/cdd-board-meeting
 -feb-2026
DTSTART:20260213T160000Z
DTEND:20260213T180000Z
ATTACH;FILENAME=2026-02-13 - Lynwood CDD - Final Agenda.pdf;FMTTYPE=applica
 tion/pdf:https://campussuite-storage.s3.amazonaws.com/prod/1558911/2b6da47
 e-eaa0-11e9-8892-0a20d2c7fac4/3068071/0085bc5a-02cd-11f1-9ca0-0e4dd4d2865b
 /file/2026-02-13 - Lynwood CDD - Final Agenda.pdf
END:VEVENT
END:VCALENDAR
