BEGIN:VCALENDAR
VERSION:2.0
PRODID:SchoolNow
CALSCALE:GREGORIAN
BEGIN:VEVENT
UID:bb2083ce-7493-11f0-8c17-0a58a9feac02
DTSTAMP:20250808T201029Z
SUMMARY:CDD Board Meeting - Jul. 2026
LOCATION:the offices of Rizzetta & Company\, located at 2700 Falkenburg Roa
 d Suite 2745\, Riverview\, FL 33578.
URL;VALUE=URI:https://www.lynwoodcdd.org/calendar/8483873/cdd-board-meeting
 -jul-2026
DTSTART:20260710T150000Z
DTEND:20260710T170000Z
END:VEVENT
END:VCALENDAR
