BEGIN:VCALENDAR
VERSION:2.0
PRODID:SchoolNow
CALSCALE:GREGORIAN
BEGIN:VEVENT
UID:c4a14456-7493-11f0-a75b-02a999df172f
DTSTAMP:20250808T201045Z
SUMMARY:CDD Board Meeting - Aug. 2026
LOCATION:the offices of Rizzetta & Company\, located at 2700 Falkenburg Roa
 d Suite 2745\, Riverview\, FL 33578.
URL;VALUE=URI:https://www.lynwoodcdd.org/calendar/8483874/cdd-board-meeting
 -aug-2026
DTSTART:20260814T150000Z
DTEND:20260814T170000Z
END:VEVENT
END:VCALENDAR
