BEGIN:VCALENDAR
VERSION:2.0
PRODID:SchoolNow
CALSCALE:GREGORIAN
BEGIN:VEVENT
UID:cef5e358-7493-11f0-bcfd-026868b05a49
DTSTAMP:20250808T201102Z
SUMMARY:CDD Board Meeting - Sept. 2026
LOCATION:the offices of Rizzetta & Company\, located at 2700 Falkenburg Roa
 d Suite 2745\, Riverview\, FL 33578.
URL;VALUE=URI:https://www.lynwoodcdd.org/calendar/8483875/cdd-board-meeting
 -sept-2026
DTSTART:20260911T150000Z
DTEND:20260911T170000Z
END:VEVENT
END:VCALENDAR
