BEGIN:VCALENDAR
VERSION:2.0
PRODID:SchoolNow
CALSCALE:GREGORIAN
BEGIN:VEVENT
UID:5c65e19a-76c7-11f0-b487-0a58a9feac02
DTSTAMP:20250811T152552Z
SUMMARY:CDD Board Workshop - Oct. 2025
LOCATION:The Lynwood Clubhouse\, 4911 White Chicory Drive\, Apollo Beach\, 
 Florida 33572.
URL;VALUE=URI:https://www.lynwoodcdd.org/calendar/8490439/cdd-board-worksho
 p-oct-2025
DTSTART:20251006T220000Z
DTEND:20251007T000000Z
END:VEVENT
END:VCALENDAR
