BEGIN:VCALENDAR
VERSION:2.0
PRODID:SchoolNow
CALSCALE:GREGORIAN
BEGIN:VEVENT
UID:6e490cac-76c7-11f0-b73d-0a58a9feac02
DTSTAMP:20250811T152536Z
SUMMARY:CDD Board Workshop - Nov. 2025
LOCATION:The Lynwood Clubhouse\, 4911 White Chicory Drive\, Apollo Beach\, 
 Florida 33572.
URL;VALUE=URI:https://www.lynwoodcdd.org/calendar/8490441/cdd-board-worksho
 p-nov-2025-clone
DTSTART:20251110T230000Z
DTEND:20251111T010000Z
END:VEVENT
END:VCALENDAR
