BEGIN:VCALENDAR
VERSION:2.0
PRODID:SchoolNow
CALSCALE:GREGORIAN
BEGIN:VEVENT
UID:94cd95dc-76c7-11f0-af41-0a58a9feac02
DTSTAMP:20250811T152641Z
SUMMARY:CDD Board Workshop - Feb. 2026
LOCATION:The Lynwood Clubhouse\, 4911 White Chicory Drive\, Apollo Beach\, 
 Florida 33572.
URL;VALUE=URI:https://www.lynwoodcdd.org/calendar/8490444/cdd-board-worksho
 p-feb-2026
DTSTART:20260209T230000Z
DTEND:20260210T010000Z
END:VEVENT
END:VCALENDAR
