BEGIN:VCALENDAR
VERSION:2.0
PRODID:SchoolNow
CALSCALE:GREGORIAN
BEGIN:VEVENT
UID:c72f543e-76c7-11f0-8ec8-0a58a9feac02
DTSTAMP:20250811T152806Z
SUMMARY:CDD Board Workshop - Jul. 2026
LOCATION:The Lynwood Clubhouse\, 4911 White Chicory Drive\, Apollo Beach\, 
 Florida 33572.
URL;VALUE=URI:https://www.lynwoodcdd.org/calendar/8490449/cdd-board-worksho
 p-jul-2026
DTSTART:20260706T220000Z
DTEND:20260707T000000Z
END:VEVENT
END:VCALENDAR
