BEGIN:VCALENDAR
VERSION:2.0
PRODID:SchoolNow
CALSCALE:GREGORIAN
BEGIN:VEVENT
UID:d1b664ec-76c7-11f0-8690-0a58a9feac02
DTSTAMP:20250811T152823Z
SUMMARY:CDD Board Workshop - Aug. 2026
LOCATION:The Lynwood Clubhouse\, 4911 White Chicory Drive\, Apollo Beach\, 
 Florida 33572.
URL;VALUE=URI:https://www.lynwoodcdd.org/calendar/8490450/cdd-board-worksho
 p-aug-2026
DTSTART:20260810T220000Z
DTEND:20260811T000000Z
END:VEVENT
END:VCALENDAR
