BEGIN:VCALENDAR
VERSION:2.0
PRODID:SchoolNow
CALSCALE:GREGORIAN
BEGIN:VEVENT
UID:deb98c00-76c7-11f0-8e4f-0a58a9feac02
DTSTAMP:20250811T152845Z
SUMMARY:CDD Board Workshop - Sept. 2026
LOCATION:The Lynwood Clubhouse\, 4911 White Chicory Drive\, Apollo Beach\, 
 Florida 33572.
URL;VALUE=URI:https://www.lynwoodcdd.org/calendar/8490451/cdd-board-worksho
 p-sept-2026
DTSTART:20260907T220000Z
DTEND:20260908T000000Z
END:VEVENT
END:VCALENDAR
